BEGIN:VCALENDAR
VERSION:2.0
PRODID:-//Gems All Star Cheerleading - ECPv5.8.1//NONSGML v1.0//EN
CALSCALE:GREGORIAN
METHOD:PUBLISH
X-WR-CALNAME:Gems All Star Cheerleading
X-ORIGINAL-URL:http://www.gemsallstarsannois.fr
X-WR-CALDESC:évènements pour Gems All Star Cheerleading
BEGIN:VTIMEZONE
TZID:Europe/Paris
BEGIN:DAYLIGHT
TZOFFSETFROM:+0100
TZOFFSETTO:+0200
TZNAME:CEST
DTSTART:20170326T010000
END:DAYLIGHT
BEGIN:STANDARD
TZOFFSETFROM:+0200
TZOFFSETTO:+0100
TZNAME:CET
DTSTART:20171029T010000
END:STANDARD
END:VTIMEZONE
BEGIN:VEVENT
DTSTART;VALUE=DATE:20171119
DTEND;VALUE=DATE:20171120
DTSTAMP:20260419T145423
CREATED:20171031T173855Z
LAST-MODIFIED:20171031T173855Z
UID:2111-1511049600-1511135999@www.gemsallstarsannois.fr
SUMMARY:ENTRAINEMENTS SPÉCIAUX
DESCRIPTION:Afin de permettre aux athlètes d’apprendre et de s’entrainer en toute sérénité\, nous organisons dans l’année des entraînements spéciaux le dimanche sur une demie journée. \nNous attendons donc le Dimanche 19 novembre au gymnase VOLTAIRE\, les équipes :\n– Diamonds 10h à 13H30\n– Saphirs 14h à 17H30 \n 
URL:http://www.gemsallstarsannois.fr/event/entrainements-speciaux/
LOCATION:Gymnase Voltaire\, 2 Rue des Garonnes\, Sannois\, 95110
CATEGORIES:Entrainements,gems private
ATTACH;FMTTYPE=image/jpeg:http://www.gemsallstarsannois.fr/wp-content/uploads/2017/10/ENTRAINEMENTS-DIMANCHES.jpg
END:VEVENT
END:VCALENDAR